BEGIN:VCALENDAR
VERSION:2.0
PRODID:-//DriftCon - ECPv6.13.2.1//NONSGML v1.0//EN
CALSCALE:GREGORIAN
METHOD:PUBLISH
X-WR-CALNAME:DriftCon
X-ORIGINAL-URL:https://www.driftcon.us
X-WR-CALDESC:Events for DriftCon
REFRESH-INTERVAL;VALUE=DURATION:PT1H
X-Robots-Tag:noindex
X-PUBLISHED-TTL:PT1H
BEGIN:VTIMEZONE
TZID:America/Los_Angeles
BEGIN:DAYLIGHT
TZOFFSETFROM:-0800
TZOFFSETTO:-0700
TZNAME:PDT
DTSTART:20260308T100000
END:DAYLIGHT
BEGIN:STANDARD
TZOFFSETFROM:-0700
TZOFFSETTO:-0800
TZNAME:PST
DTSTART:20261101T090000
END:STANDARD
END:VTIMEZONE
BEGIN:VEVENT
DTSTART;TZID=America/Los_Angeles:20260530T130000
DTEND;TZID=America/Los_Angeles:20260530T200000
DTSTAMP:20260423T011109
CREATED:20260124T043927Z
LAST-MODIFIED:20260128T040639Z
UID:48413-1780146000-1780171200@www.driftcon.us
SUMMARY:DriftCon 2026
DESCRIPTION:  \nThe 32 driver 3/8 High Line Shootout returns to DriftCon and will be held alongside the Team Tandem Competition & Trackside Car Show! \nWhat is the DriftCon?High Line Shootout (3/8 Top 32 Tournament)Team Tandem Competition Presented by RaceTreadsTrackside Car Show by ImportMeetSide Lot Showcase (VIP Parking)Tandem Mayhem / Open DriftHoon-Off Burnout CompetitionBeer GardenAnd More! \n\nDRIFTCON GEAR:\nhttps://www.driftcon.us/shop/ \nSPONSORS/VENDORS: Email info@driftcon.us if you are interested in supporting this event \nTICKETS ON SALE SOON
URL:https://www.driftcon.us/event/driftcon-2026-high-line-shootout/
LOCATION:Evergreen Speedway\, 14405 179th Ave SE\, Monroe\, WA\, 98272\, United States
CATEGORIES:Car Show,High Line Shootout,Hoon Off,Team Tandem Competition
ATTACH;FMTTYPE=image/jpeg:https://www.driftcon.us/wp-content/uploads/2026/01/HLS_26_Square_1080.jpg
ORGANIZER;CN="DriftCon":MAILTO:info@driftcon.us
END:VEVENT
BEGIN:VEVENT
DTSTART;TZID=America/Los_Angeles:20260718T140000
DTEND;TZID=America/Los_Angeles:20260718T210000
DTSTAMP:20260423T011109
CREATED:20260124T045138Z
LAST-MODIFIED:20260124T050043Z
UID:48419-1784383200-1784408400@www.driftcon.us
SUMMARY:DriftCon Track Takeover 2026
DESCRIPTION:DriftCon Track Takeover is our track focused event in the middle of the summer and features the Tandem Rivals top 32 competition\, Drift Games\, and Team Tandem Tryouts. We will also have paid ride-alongs with PROSPEC-level drifters! \nWhat is DriftCon Track Takeover?\nTandem Rivals (Top 32 Competition)\nDrift Games (Big Entry Contest + 360° Drift Challenge)\nTeam Tandem Tryouts\nPaid Ride-Alongs (TBD)\nSide Lot Showcase (VIP Parking)\nVendors\nBeer Garden \nDRIFTCON GEAR: https://www.driftcon.us/shop/ \nSPONSORS/VENDORS: Email info@driftcon.us if you are interested in supporting this event. \nTICKETS ON SALE SOON
URL:https://www.driftcon.us/event/driftcon-track-takeover-2026/
LOCATION:Evergreen Speedway\, 14405 179th Ave SE\, Monroe\, WA\, 98272\, United States
CATEGORIES:Drift Games,Overland / Truck Show,Tandem Rivals
ATTACH;FMTTYPE=image/jpeg:https://www.driftcon.us/wp-content/uploads/2026/01/TT_26_Square_1080.jpg
ORGANIZER;CN="DriftCon":MAILTO:info@driftcon.us
END:VEVENT
BEGIN:VEVENT
DTSTART;TZID=America/Los_Angeles:20261003T140000
DTEND;TZID=America/Los_Angeles:20261003T220000
DTSTAMP:20260423T011109
CREATED:20260124T045800Z
LAST-MODIFIED:20260124T050051Z
UID:48425-1791036000-1791064800@www.driftcon.us
SUMMARY:DriftCon Afterdark 2026
DESCRIPTION:DriftCon Afterdark finishes off the drift season with what should be our biggest event to date. You won’t want to miss this epic conclusion to the NW Drift Series at Evergreen Speedway in Monroe\, WA! \nWhat is DriftCon?\nDouble 8 Showdown (Top 32 Cageless 2 Layout Comp.)\nWarfare on the 5/8 (Top 8 Invitational Comp.) Team Tandem Finale (Qualified 5 Team Members Max)Trackside Night Car ShowHoon-Off Burnout CompetitionVIP Paved MeetBeer GardenVendor Midway \nDRIFTCON GEAR: https://www.driftcon.us/shop/ \nSPONSORS/VENDORS: Email info@driftcon.us if you are interested in supporting this event. \nTICKETS ON SALE SOON
URL:https://www.driftcon.us/event/driftcon-afterdark-2026/
LOCATION:Evergreen Speedway\, 14405 179th Ave SE\, Monroe\, WA\, 98272\, United States
CATEGORIES:5/8 Competition,Double 8 Showdown,Hoon Off,Team Tandem Competition
ATTACH;FMTTYPE=image/jpeg:https://www.driftcon.us/wp-content/uploads/2026/01/AD_26_Square_1080.jpg
ORGANIZER;CN="DriftCon":MAILTO:info@driftcon.us
END:VEVENT
END:VCALENDAR