BEGIN:VCALENDAR
VERSION:2.0
PRODID:-//DriftCon - ECPv6.13.2.1//NONSGML v1.0//EN
CALSCALE:GREGORIAN
METHOD:PUBLISH
X-ORIGINAL-URL:https://www.driftcon.us
X-WR-CALDESC:Events for DriftCon
REFRESH-INTERVAL;VALUE=DURATION:PT1H
X-Robots-Tag:noindex
X-PUBLISHED-TTL:PT1H
BEGIN:VTIMEZONE
TZID:America/Los_Angeles
BEGIN:DAYLIGHT
TZOFFSETFROM:-0800
TZOFFSETTO:-0700
TZNAME:PDT
DTSTART:20250309T100000
END:DAYLIGHT
BEGIN:STANDARD
TZOFFSETFROM:-0700
TZOFFSETTO:-0800
TZNAME:PST
DTSTART:20251102T090000
END:STANDARD
END:VTIMEZONE
BEGIN:VEVENT
DTSTART;TZID=America/Los_Angeles:20250927T140000
DTEND;TZID=America/Los_Angeles:20250927T220000
DTSTAMP:20260423T064845
CREATED:20250121T041538Z
LAST-MODIFIED:20250806T144621Z
UID:47686-1758981600-1759010400@www.driftcon.us
SUMMARY:DriftCon Afterdark 2025
DESCRIPTION:On September 27\, 2025 DriftCon Afterdark finishes off the drift season with what should be our biggest event to date. You won’t want to miss this epic conclusion to the NW Drift Series at Evergreen Speedway in Monroe\, WA! \nWhat is DriftCon?\nWarfare on the 5/8 (Top 8 Invitational Comp.) Double 8 Showdown (Top 32 Cageless 2 Layout Comp.)Team Tandem Finale (Qualified 5 Team Members Max)Trackside Night Car ShowHoon-Off Burnout CompetitionVIP Paved MeetBeer GardenVendor Midway \nDRIFTCON GEAR: https://www.driftcon.us/shop/ \nSPONSORS/VENDORS: Email info@driftcon.us if you are interested in supporting this event. \nBUY EARLY ACCESS TICKETSBUY SPECTATOR TICKETS
URL:https://www.driftcon.us/event/driftcon-afterdark-2025/
LOCATION:Evergreen Speedway\, 14405 179th Ave SE\, Monroe\, WA\, 98272\, United States
CATEGORIES:5/8 Competition,Car Show,Double 8 Showdown,Hoon Off
ATTACH;FMTTYPE=image/jpeg:https://www.driftcon.us/wp-content/uploads/2025/01/DC_AD_25_Event_Featured.jpg
ORGANIZER;CN="DriftCon":MAILTO:info@driftcon.us
END:VEVENT
END:VCALENDAR