BEGIN:VCALENDAR
VERSION:2.0
PRODID:-//DriftCon - ECPv6.13.2.1//NONSGML v1.0//EN
CALSCALE:GREGORIAN
METHOD:PUBLISH
X-ORIGINAL-URL:https://www.driftcon.us
X-WR-CALDESC:Events for DriftCon
REFRESH-INTERVAL;VALUE=DURATION:PT1H
X-Robots-Tag:noindex
X-PUBLISHED-TTL:PT1H
BEGIN:VTIMEZONE
TZID:America/Los_Angeles
BEGIN:DAYLIGHT
TZOFFSETFROM:-0800
TZOFFSETTO:-0700
TZNAME:PDT
DTSTART:20220313T100000
END:DAYLIGHT
BEGIN:STANDARD
TZOFFSETFROM:-0700
TZOFFSETTO:-0800
TZNAME:PST
DTSTART:20221106T090000
END:STANDARD
BEGIN:DAYLIGHT
TZOFFSETFROM:-0800
TZOFFSETTO:-0700
TZNAME:PDT
DTSTART:20230312T100000
END:DAYLIGHT
BEGIN:STANDARD
TZOFFSETFROM:-0700
TZOFFSETTO:-0800
TZNAME:PST
DTSTART:20231105T090000
END:STANDARD
BEGIN:DAYLIGHT
TZOFFSETFROM:-0800
TZOFFSETTO:-0700
TZNAME:PDT
DTSTART:20240310T100000
END:DAYLIGHT
BEGIN:STANDARD
TZOFFSETFROM:-0700
TZOFFSETTO:-0800
TZNAME:PST
DTSTART:20241103T090000
END:STANDARD
BEGIN:DAYLIGHT
TZOFFSETFROM:-0800
TZOFFSETTO:-0700
TZNAME:PDT
DTSTART:20250309T100000
END:DAYLIGHT
BEGIN:STANDARD
TZOFFSETFROM:-0700
TZOFFSETTO:-0800
TZNAME:PST
DTSTART:20251102T090000
END:STANDARD
BEGIN:DAYLIGHT
TZOFFSETFROM:-0800
TZOFFSETTO:-0700
TZNAME:PDT
DTSTART:20260308T100000
END:DAYLIGHT
BEGIN:STANDARD
TZOFFSETFROM:-0700
TZOFFSETTO:-0800
TZNAME:PST
DTSTART:20261101T090000
END:STANDARD
END:VTIMEZONE
BEGIN:VEVENT
DTSTART;TZID=America/Los_Angeles:20260411T130000
DTEND;TZID=America/Los_Angeles:20260411T200000
DTSTAMP:20260423T123411
CREATED:20260124T042721Z
LAST-MODIFIED:20260224T032846Z
UID:48400-1775912400-1775937600@www.driftcon.us
SUMMARY:DriftCon Season Opener 2026
DESCRIPTION:The DriftCon Season Opener kicks off the Evergreen Drift NW Drift Season season with the return of the 64 driver Big Bounty Tournament and the brand new NISSAN Legends judged car show! \nWhat is the DriftCon Season Opener?\nBig Bounty Tournament\nNISSAN Legends Car Show (2002 & Older) Presented by The Import Guys\nNissan/Datsun/Infiniti VIP Parking\nVendors\nBeer Garden \nDRIFTCON GEAR: http://www.driftcon.us/shop/ \nSPONSORS/VENDORS: Email info@driftcon.us if you are interested in being a vendor or sponsor at this event. \nCAR SHOW & EARLY ACCESS1PM GENERAL ADMISSION
URL:https://www.driftcon.us/event/driftcon-season-opener-2026/
LOCATION:Evergreen Speedway\, 14405 179th Ave SE\, Monroe\, WA\, 98272\, United States
CATEGORIES:Big Bounty Tournament,Car Show,NISSAN Legends Car Show
ATTACH;FMTTYPE=image/jpeg:https://www.driftcon.us/wp-content/uploads/2026/01/SO_26_Square_1080.jpg
ORGANIZER;CN="DriftCon":MAILTO:info@driftcon.us
END:VEVENT
BEGIN:VEVENT
DTSTART;TZID=America/Los_Angeles:20250419T130000
DTEND;TZID=America/Los_Angeles:20250419T200000
DTSTAMP:20260423T123411
CREATED:20250121T041300Z
LAST-MODIFIED:20250417T213357Z
UID:47680-1745067600-1745092800@www.driftcon.us
SUMMARY:DriftCon Season Opener 2025
DESCRIPTION:The DriftCon Season Opener kicks off the Evergreen Drift NW Drift Season season with the return of the Big Bounty Tournament which is open to ALL Evergreen Drift drivers. \nWhat is the DriftCon Season Opener?\nBig Bounty Tournament (64 Driver Competition)\nRHD Fest Car Show\nVendors\nBeer Garden \nDRIFTCON GEAR: http://www.driftcon.us/shop/ \nSPONSORS/VENDORS: Email info@driftcon.us if you are interested in supporting this event \nBUY TICKETSBUY EARLY ACCESS TICKETSREGISTER FOR RHD FEST
URL:https://www.driftcon.us/event/driftcon-season-opener-2025/
LOCATION:Evergreen Speedway\, 14405 179th Ave SE\, Monroe\, WA\, 98272\, United States
CATEGORIES:Big Bounty Tournament,Car Show
ATTACH;FMTTYPE=image/jpeg:https://www.driftcon.us/wp-content/uploads/2025/01/DC_SO_25_Featured_Event.jpg
ORGANIZER;CN="DriftCon":MAILTO:info@driftcon.us
END:VEVENT
BEGIN:VEVENT
DTSTART;TZID=America/Los_Angeles:20240420T130000
DTEND;TZID=America/Los_Angeles:20240420T200000
DTSTAMP:20260423T123411
CREATED:20231207T154544Z
LAST-MODIFIED:20240417T144738Z
UID:47142-1713618000-1713643200@www.driftcon.us
SUMMARY:DriftCon Season Opener 2024
DESCRIPTION:The DriftCon Season Opener kicks off the Evergreen Drift season with the return of the Big Bounty Tournament which is open to ALL Evergreen Drift drivers. \nWhat is the DriftCon Season Opener?\nBig Bounty Tournament (64 Driver Competition)\nRHD Fest Car Show\nRC Drifting by LET’S DRIFT RC\nVendors\nBeer Garden \nDRIFTCON GEAR: http://www.driftcon.us/shop/ \nSPONSORS/VENDORS: Email info@driftcon.us if you are interested in supporting this event \nBUY TICKETS
URL:https://www.driftcon.us/event/driftcon-season-opener-2024/
LOCATION:Evergreen Speedway\, 14405 179th Ave SE\, Monroe\, WA\, 98272\, United States
CATEGORIES:Big Bounty Tournament,Car Show
ATTACH;FMTTYPE=image/jpeg:https://www.driftcon.us/wp-content/uploads/2023/12/DC_SO_24_Featured.jpg
ORGANIZER;CN="DriftCon":MAILTO:info@driftcon.us
END:VEVENT
BEGIN:VEVENT
DTSTART;TZID=America/Los_Angeles:20230422T130000
DTEND;TZID=America/Los_Angeles:20230422T200000
DTSTAMP:20260423T123411
CREATED:20221212T150034Z
LAST-MODIFIED:20230221T180212Z
UID:46166-1682168400-1682193600@www.driftcon.us
SUMMARY:DriftCon Season Opener 2023
DESCRIPTION:BUY TICKETSThe DriftCon Season Opener kicks off the Evergreen Drift season with the return of the Big Bounty Tournament which is open to ALL Evergreen Drift drivers. \nSPECTATOR PRICE:\nAdults: $20 Online – $25 at Gate\nKids 10 and Under FREE \nWhat is the DriftCon Season Opener?\nBig Bounty Tournament (64 Driver Competition)\nStanceWars Car Show\nVendors\nBeer Garden \nDRIFTCON GEAR: http://www.driftcon.us/shop/ \nSPONSORS/VENDORS: Email info@driftcon.us if you are interested in supporting this event
URL:https://www.driftcon.us/event/driftcon-season-opener-2023/
LOCATION:Evergreen Speedway\, 14405 179th Ave SE\, Monroe\, WA\, 98272\, United States
CATEGORIES:Big Bounty Tournament,Car Show
ATTACH;FMTTYPE=image/jpeg:https://www.driftcon.us/wp-content/uploads/2022/12/DC_SO_23_Featured_Event.jpg
ORGANIZER;CN="DriftCon":MAILTO:info@driftcon.us
END:VEVENT
BEGIN:VEVENT
DTSTART;TZID=America/Los_Angeles:20220423T130000
DTEND;TZID=America/Los_Angeles:20220423T200000
DTSTAMP:20260423T123412
CREATED:20211201T194933Z
LAST-MODIFIED:20220224T191505Z
UID:45275-1650718800-1650744000@www.driftcon.us
SUMMARY:DriftCon Season Opener 2022
DESCRIPTION:DriftCon kicks off the Evergreen Drift season on April 23\, 2022 with the DriftCon Season Opener! \nKevin Guthrie (Director of Motorsports at Evergreen Speedway) has been devising a completely new competition for a couple of years and looks forward to unveiling it at this event: \n“The Big Bounty Tournament is a new and exciting competition that not only pays the top finishing drivers\, but it will also pay cash for every battle won. The money accumulated is kept by the driver even if they are knocked out! Drivers who make it into the top 16 are guaranteed a payout (in addition to any bounties earned). We are planning up to $15\,000 in cash prizes and will be sharing the full payout structure closer to the event. The Big Bounty Tournament is destined to be a must-attend competition for all northwest drifters every year.” \nSPECTATOR PRICE:\nAdults: $20 Online – $25 at Gate\nKids 10 and Under FREE \nWhat is the DriftCon Season Opener?\nBig Bounty Tournament (NEW Drift Competition Format!)\nStanceWars Elite Car Show\nBeer Garden\nVendors/Models \nDRIFTCON GEAR:\nhttp://www.driftcon.us/shop/ \nSPONSORS/VENDORS:\nEmail info@driftcon.us if you are interested in supporting this event \nBUY TICKETS
URL:https://www.driftcon.us/event/driftcon-season-opener-2022/
LOCATION:Evergreen Speedway\, 14405 179th Ave SE\, Monroe\, WA\, 98272\, United States
CATEGORIES:Big Bounty Tournament,Car Show,Drift Competition
ATTACH;FMTTYPE=image/jpeg:https://www.driftcon.us/wp-content/uploads/2021/12/DC_SEASON_OPENER_22_FEATURED.jpg
ORGANIZER;CN="DriftCon":MAILTO:info@driftcon.us
END:VEVENT
END:VCALENDAR