BEGIN:VCALENDAR
VERSION:2.0
PRODID:-//DriftCon - ECPv6.13.2.1//NONSGML v1.0//EN
CALSCALE:GREGORIAN
METHOD:PUBLISH
X-ORIGINAL-URL:https://www.driftcon.us
X-WR-CALDESC:Events for DriftCon
REFRESH-INTERVAL;VALUE=DURATION:PT1H
X-Robots-Tag:noindex
X-PUBLISHED-TTL:PT1H
BEGIN:VTIMEZONE
TZID:America/Los_Angeles
BEGIN:DAYLIGHT
TZOFFSETFROM:-0800
TZOFFSETTO:-0700
TZNAME:PDT
DTSTART:20260308T100000
END:DAYLIGHT
BEGIN:STANDARD
TZOFFSETFROM:-0700
TZOFFSETTO:-0800
TZNAME:PST
DTSTART:20261101T090000
END:STANDARD
END:VTIMEZONE
BEGIN:VEVENT
DTSTART;TZID=America/Los_Angeles:20260718T140000
DTEND;TZID=America/Los_Angeles:20260718T210000
DTSTAMP:20260423T093834
CREATED:20260124T045138Z
LAST-MODIFIED:20260124T050043Z
UID:48419-1784383200-1784408400@www.driftcon.us
SUMMARY:DriftCon Track Takeover 2026
DESCRIPTION:DriftCon Track Takeover is our track focused event in the middle of the summer and features the Tandem Rivals top 32 competition\, Drift Games\, and Team Tandem Tryouts. We will also have paid ride-alongs with PROSPEC-level drifters! \nWhat is DriftCon Track Takeover?\nTandem Rivals (Top 32 Competition)\nDrift Games (Big Entry Contest + 360° Drift Challenge)\nTeam Tandem Tryouts\nPaid Ride-Alongs (TBD)\nSide Lot Showcase (VIP Parking)\nVendors\nBeer Garden \nDRIFTCON GEAR: https://www.driftcon.us/shop/ \nSPONSORS/VENDORS: Email info@driftcon.us if you are interested in supporting this event. \nTICKETS ON SALE SOON
URL:https://www.driftcon.us/event/driftcon-track-takeover-2026/
LOCATION:Evergreen Speedway\, 14405 179th Ave SE\, Monroe\, WA\, 98272\, United States
CATEGORIES:Drift Games,Overland / Truck Show,Tandem Rivals
ATTACH;FMTTYPE=image/jpeg:https://www.driftcon.us/wp-content/uploads/2026/01/TT_26_Square_1080.jpg
ORGANIZER;CN="DriftCon":MAILTO:info@driftcon.us
END:VEVENT
END:VCALENDAR