BEGIN:VCALENDAR
VERSION:2.0
PRODID:-//DriftCon - ECPv6.13.2.1//NONSGML v1.0//EN
CALSCALE:GREGORIAN
METHOD:PUBLISH
X-WR-CALNAME:DriftCon
X-ORIGINAL-URL:https://www.driftcon.us
X-WR-CALDESC:Events for DriftCon
REFRESH-INTERVAL;VALUE=DURATION:PT1H
X-Robots-Tag:noindex
X-PUBLISHED-TTL:PT1H
BEGIN:VTIMEZONE
TZID:America/Los_Angeles
BEGIN:DAYLIGHT
TZOFFSETFROM:-0800
TZOFFSETTO:-0700
TZNAME:PDT
DTSTART:20170312T100000
END:DAYLIGHT
BEGIN:STANDARD
TZOFFSETFROM:-0700
TZOFFSETTO:-0800
TZNAME:PST
DTSTART:20171105T090000
END:STANDARD
BEGIN:DAYLIGHT
TZOFFSETFROM:-0800
TZOFFSETTO:-0700
TZNAME:PDT
DTSTART:20180311T100000
END:DAYLIGHT
BEGIN:STANDARD
TZOFFSETFROM:-0700
TZOFFSETTO:-0800
TZNAME:PST
DTSTART:20181104T090000
END:STANDARD
BEGIN:DAYLIGHT
TZOFFSETFROM:-0800
TZOFFSETTO:-0700
TZNAME:PDT
DTSTART:20190310T100000
END:DAYLIGHT
BEGIN:STANDARD
TZOFFSETFROM:-0700
TZOFFSETTO:-0800
TZNAME:PST
DTSTART:20191103T090000
END:STANDARD
BEGIN:DAYLIGHT
TZOFFSETFROM:-0800
TZOFFSETTO:-0700
TZNAME:PDT
DTSTART:20200308T100000
END:DAYLIGHT
BEGIN:STANDARD
TZOFFSETFROM:-0700
TZOFFSETTO:-0800
TZNAME:PST
DTSTART:20201101T090000
END:STANDARD
BEGIN:DAYLIGHT
TZOFFSETFROM:-0800
TZOFFSETTO:-0700
TZNAME:PDT
DTSTART:20210314T100000
END:DAYLIGHT
BEGIN:STANDARD
TZOFFSETFROM:-0700
TZOFFSETTO:-0800
TZNAME:PST
DTSTART:20211107T090000
END:STANDARD
BEGIN:DAYLIGHT
TZOFFSETFROM:-0800
TZOFFSETTO:-0700
TZNAME:PDT
DTSTART:20220313T100000
END:DAYLIGHT
BEGIN:STANDARD
TZOFFSETFROM:-0700
TZOFFSETTO:-0800
TZNAME:PST
DTSTART:20221106T090000
END:STANDARD
BEGIN:DAYLIGHT
TZOFFSETFROM:-0800
TZOFFSETTO:-0700
TZNAME:PDT
DTSTART:20230312T100000
END:DAYLIGHT
BEGIN:STANDARD
TZOFFSETFROM:-0700
TZOFFSETTO:-0800
TZNAME:PST
DTSTART:20231105T090000
END:STANDARD
BEGIN:DAYLIGHT
TZOFFSETFROM:-0800
TZOFFSETTO:-0700
TZNAME:PDT
DTSTART:20240310T100000
END:DAYLIGHT
BEGIN:STANDARD
TZOFFSETFROM:-0700
TZOFFSETTO:-0800
TZNAME:PST
DTSTART:20241103T090000
END:STANDARD
BEGIN:DAYLIGHT
TZOFFSETFROM:-0800
TZOFFSETTO:-0700
TZNAME:PDT
DTSTART:20250309T100000
END:DAYLIGHT
BEGIN:STANDARD
TZOFFSETFROM:-0700
TZOFFSETTO:-0800
TZNAME:PST
DTSTART:20251102T090000
END:STANDARD
END:VTIMEZONE
BEGIN:VEVENT
DTSTART;TZID=America/Los_Angeles:20250531T130000
DTEND;TZID=America/Los_Angeles:20250531T200000
DTSTAMP:20260423T064820
CREATED:20250121T041328Z
LAST-MODIFIED:20250522T022716Z
UID:47682-1748696400-1748721600@www.driftcon.us
SUMMARY:DriftCon 2025
DESCRIPTION:REGISTER FOR CAR SHOWEARLY ACCESS TICKETSGENERAL TICKETSThe 32 driver 3/8 High Line Shootout returns to DriftCon and will be held alongside the Team Tandem Competition & Trackside Car Show!\nWhat is the DriftCon?High Line Shootout (3/8 Top 32 Tournament)Team Tandem Competition Presented by RaceTreadsTrackside Car Show by ImportMeet\nDriftCon RC Drift TrackSide Lot Showcase (VIP Parking)Tandem Mayhem / Open DriftHoon-Off Burnout CompetitionBeer GardenAnd More! \nDRIFTCON GEAR:\nhttps://www.driftcon.us/shop/ \nOfficial Tire Supplier:RaceTreads\n\nSponsors:The Import GuysOpenbay GarageToyota of Seattle / Honda of SeattleSeattle Auto Detail & TintRedstart RacingDriftHQDrift Enthusiast MagazineNutbusters DesignRUINER Strobes \n\nVendors:StanceWarsReckless DiecastChasing LegendsOUT OF LOVESenpai SquadMonarchs ClothingStance Culture co.Kimoji StyleStateside Garage\n \nEmail info@driftcon.us if you are interested in supporting this event.
URL:https://www.driftcon.us/event/driftcon-2025/
LOCATION:Evergreen Speedway\, 14405 179th Ave SE\, Monroe\, WA\, 98272\, United States
CATEGORIES:Car Show,High Line Shootout,Hoon Off,Team Tandem Competition
ATTACH;FMTTYPE=image/jpeg:https://www.driftcon.us/wp-content/uploads/2025/01/DC_25_Featured_Event.jpg
ORGANIZER;CN="DriftCon":MAILTO:info@driftcon.us
END:VEVENT
BEGIN:VEVENT
DTSTART;TZID=America/Los_Angeles:20240928T140000
DTEND;TZID=America/Los_Angeles:20240928T220000
DTSTAMP:20260423T064820
CREATED:20231207T154735Z
LAST-MODIFIED:20240727T160009Z
UID:47148-1727532000-1727560800@www.driftcon.us
SUMMARY:DriftCon Afterdark 2024
DESCRIPTION:On September 28\, 2024 DriftCon Afterdark finishes off the drifting season at Evergreen Speedway in Monroe\, WA. \nBUY TICKETSWhat is DriftCon Afterdark?\nReturn of the 5/8 (Top 8 Invitational Competition)\nDouble 8 Showdown (Top 32 Competition)\nDC Drift Games\nTrackside Car Show\nHoon-Off Burnout Competition\nVIP Paved Meet (right next to the grandstands)\nVendors\nBeer Garden\n\nDRIFTCON GEAR: https://www.driftcon.us/shop/ \nSPONSORS/VENDORS: Email info@driftcon.us if you are interested in supporting this event.
URL:https://www.driftcon.us/event/driftcon-afterdark-2024/
LOCATION:Evergreen Speedway\, 14405 179th Ave SE\, Monroe\, WA\, 98272\, United States
CATEGORIES:Car Show,Double 8 Showdown,Drift Games,Hoon Off,Team Tandem Competition
ATTACH;FMTTYPE=image/jpeg:https://www.driftcon.us/wp-content/uploads/2023/12/DC_AD_2024_Square.jpg
ORGANIZER;CN="DriftCon":MAILTO:info@driftcon.us
END:VEVENT
BEGIN:VEVENT
DTSTART;TZID=America/Los_Angeles:20240601T130000
DTEND;TZID=America/Los_Angeles:20240601T200000
DTSTAMP:20260423T064820
CREATED:20231207T154617Z
LAST-MODIFIED:20240330T161943Z
UID:47146-1717246800-1717272000@www.driftcon.us
SUMMARY:DriftCon 2024
DESCRIPTION:The 32 driver 3/8 High Line Shootout returns to DriftCon and will be held alongside our standard Team Tandem Competition/Trackside Car Show! \nWhat is DriftCon?\nHigh Line Shootout (3/8 Comp. 32 Drivers)\nTeam Tandem Competition\nHoon-Off Burnout Competition\nTrackside Car Show\nVIP Paved Parking (right next to the grandstands)\nVendors/Models\nBeer Garden \nDRIFTCON GEAR: https://www.driftcon.us/shop/ \nSPONSORS/VENDORS: Email info@driftcon.us if you are interested in supporting this event. \nBUY TICKETSREGISTER FOR CAR SHOW
URL:https://www.driftcon.us/event/driftcon-2024/
LOCATION:Evergreen Speedway\, 14405 179th Ave SE\, Monroe\, WA\, 98272\, United States
CATEGORIES:Car Show,High Line Shootout,Hoon Off,Team Tandem Competition
ATTACH;FMTTYPE=image/jpeg:https://www.driftcon.us/wp-content/uploads/2023/12/DC_June_24_Featured.jpg
ORGANIZER;CN="DriftCon":MAILTO:info@driftcon.us
END:VEVENT
BEGIN:VEVENT
DTSTART;TZID=America/Los_Angeles:20230930T140000
DTEND;TZID=America/Los_Angeles:20230930T220000
DTSTAMP:20260423T064820
CREATED:20221212T150031Z
LAST-MODIFIED:20230907T185522Z
UID:46171-1696082400-1696111200@www.driftcon.us
SUMMARY:DriftCon Afterdark 2023
DESCRIPTION:BUY TICKETSOn September 30\, 2023 DriftCon Afterdark finishes off the drifting season at Evergreen Speedway in Monroe\, WA! \nSPECTATOR PRICE:\nAdults: $20 Online – $25 at Gate\nKids 10 and Under FREE \nWhat is DriftCon Afterdark?\nDouble 8 Showdown (Top 32 Competition)\nDC Drift Games\nTrackside Car Show\nHoon-Off Burnout Competition\nVIP Paved Meet (right next to the grandstands)\nVendors/Models\nBeer Garden\n\nDRIFTCON GEAR: https://www.driftcon.us/shop/ \nSPONSORS/VENDORS: Email info@driftcon.us if you are interested in supporting this event.
URL:https://www.driftcon.us/event/driftcon-afterdark-2023/
LOCATION:Evergreen Speedway\, 14405 179th Ave SE\, Monroe\, WA\, 98272\, United States
CATEGORIES:Car Show,Double 8 Showdown,Drift Games,Hoon Off,Team Tandem Competition
ATTACH;FMTTYPE=image/jpeg:https://www.driftcon.us/wp-content/uploads/2022/12/DC_AD_23_Featured_Event.jpg
ORGANIZER;CN="DriftCon":MAILTO:info@driftcon.us
END:VEVENT
BEGIN:VEVENT
DTSTART;TZID=America/Los_Angeles:20230603T120000
DTEND;TZID=America/Los_Angeles:20230603T200000
DTSTAMP:20260423T064820
CREATED:20221212T150014Z
LAST-MODIFIED:20230527T132929Z
UID:46168-1685793600-1685822400@www.driftcon.us
SUMMARY:DriftCon 2023
DESCRIPTION:BUY TICKETSREGISTER FOR CAR SHOW / VIP PARKINGThe brand new 32 driver 3/8 High Line Shootout is coming to DriftCon and will be held alongside our standard Team Tandem Competition/Trackside Car Show! \nSPECTATOR PRICE:\nAdults: $20 Online – $25 at Gate\nKids 10 and Under FREE \nWhat is DriftCon?\nHigh Line Shootout (3/8 Comp. 32 Drivers)\nTeam Tandem Competition\nHoon-Off Burnout Competition\nTrackside Car Show\nVIP Paved Parking (right next to the grandstands)\nVendors/Models\nBeer Garden \nDRIFTCON GEAR: https://www.driftcon.us/shop/ \nSPONSORS/VENDORS: Email info@driftcon.us if you are interested in supporting this event.
URL:https://www.driftcon.us/event/driftcon-2023/
LOCATION:Evergreen Speedway\, 14405 179th Ave SE\, Monroe\, WA\, 98272\, United States
CATEGORIES:Drift Competition,Hoon Off,Team Tandem Competition
ATTACH;FMTTYPE=image/jpeg:https://www.driftcon.us/wp-content/uploads/2022/12/DC_23_Featured_Event.jpg
ORGANIZER;CN="DriftCon":MAILTO:info@driftcon.us
END:VEVENT
BEGIN:VEVENT
DTSTART;TZID=America/Los_Angeles:20220604T130000
DTEND;TZID=America/Los_Angeles:20220604T200000
DTSTAMP:20260423T064820
CREATED:20211201T195039Z
LAST-MODIFIED:20221211T172742Z
UID:45277-1654347600-1654372800@www.driftcon.us
SUMMARY:DriftCon EVD Shootout 2022
DESCRIPTION:DriftCon marks the start of summer with an EVD Shootout on the 5/8th’s bank! The Team Tandem Competition will also return with a large payout based on the number of teams competing. \nSPECTATOR PRICE:Adults: $20 Online – $25 at GateKids 10 and Under FREE \nWhat is DriftCon?Top 32 FD PROSPEC License ShootoutTeam Tandem CompetitionHoon-Off Burnout CompetitionGreat 75 Car ShowBeer GardenVendors/Models  \nDRIFTCON GEAR: https://www.driftcon.us/shop/ \nSPONSORS/VENDORS: Email info@driftcon.us if you are interested in supporting this event.
URL:https://www.driftcon.us/event/driftcon-evd-shootout-2022/
LOCATION:Evergreen Speedway\, 14405 179th Ave SE\, Monroe\, WA\, 98272\, United States
CATEGORIES:Car Show,Formula DRIFT Shootout,Hoon Off,Team Tandem Competition
ATTACH;FMTTYPE=image/jpeg:https://www.driftcon.us/wp-content/uploads/2021/12/DC_SHOOTOUT_22_FEATURED.jpg
ORGANIZER;CN="DriftCon":MAILTO:info@driftcon.us
END:VEVENT
BEGIN:VEVENT
DTSTART;TZID=America/Los_Angeles:20210911T150000
DTEND;TZID=America/Los_Angeles:20210911T220000
DTSTAMP:20260423T064820
CREATED:20210523T143726Z
LAST-MODIFIED:20210828T035055Z
UID:44425-1631372400-1631397600@www.driftcon.us
SUMMARY:DriftCon Afterdark 2021
DESCRIPTION:On September 11\, 2021 DriftCon Afterdark finishes off the ProAm season at Evergreen Speedway in Monroe\, WA! \nSPECTATOR PRICE:\nAdults: $20 Online – $25 at Gate\nKids 2-10: $10 Online – $15 at Gate\nUnder 2: FREE \nWhat is DriftCon Afterdark?\nProAm Round #5\nDC Drift Games (Cageless Layout)\nGreat 75 Trackside Car Show\nVIP Paved Meet – Right next to the grandstands\nBeer Garden\nVendors/Models \nDRIFTCON GEAR:\nhttps://www.driftcon.us/shop/ \nSPONSORS/VENDORS:\nEmail info@driftcon.us if you are interested in supporting this event.
URL:https://www.driftcon.us/event/driftcon-afterdark-2021/
LOCATION:Evergreen Speedway\, 14405 179th Ave SE\, Monroe\, WA\, 98272\, United States
CATEGORIES:Car Show,Drift Competition,Drift Games,Team Tandem Competition
ATTACH;FMTTYPE=image/jpeg:https://www.driftcon.us/wp-content/uploads/2021/03/DC_AD_21_FB_Event.jpg
ORGANIZER;CN="DriftCon":MAILTO:info@driftcon.us
END:VEVENT
BEGIN:VEVENT
DTSTART;TZID=America/Los_Angeles:20210605T130000
DTEND;TZID=America/Los_Angeles:20210605T200000
DTSTAMP:20260423T064820
CREATED:20210329T194426Z
LAST-MODIFIED:20210605T134217Z
UID:44423-1622898000-1622923200@www.driftcon.us
SUMMARY:DriftCon 2021
DESCRIPTION:DriftCon marks the start of summer with the third round of the Evergreen Drift ProAm competition! Drivers will battle on the 5/8th’s bank for the first time this season! \nSPECTATOR PRICE:\nAdults: $20 Online – $25 at Gate\nKids 2-10: $10 Online – $10 at Gate\nUnder 2: FREE \nWhat is DriftCon?\n5/8th’s ProAm Drifting Competition\nTeam Tandem Competition Finale\nTandem Mayhem (Open Drift)\nHoon-Off Burnout Competition\nGreat 75 Trackside Car Show\nVIP Parking\nBeer Garden\nAnd More! \nDRIFTCON GEAR:\nhttps://www.driftcon.us/shop/ \nSPONSORS/VENDORS:\nEmail info@driftcon.us if you are interested in supporting this event. \nBUY SPECTATOR TICKETS
URL:https://www.driftcon.us/event/driftcon-2021/
LOCATION:Evergreen Speedway\, 14405 179th Ave SE\, Monroe\, WA\, 98272\, United States
CATEGORIES:Car Show,Drift Competition,Hoon Off,Team Tandem Competition
ATTACH;FMTTYPE=image/png:https://www.driftcon.us/wp-content/uploads/2021/03/DC_21_FB_Event.png
ORGANIZER;CN="DriftCon":MAILTO:info@driftcon.us
END:VEVENT
BEGIN:VEVENT
DTSTART;TZID=America/Los_Angeles:20210417T130000
DTEND;TZID=America/Los_Angeles:20210417T200000
DTSTAMP:20260423T064820
CREATED:20210329T190001Z
LAST-MODIFIED:20210413T225404Z
UID:44419-1618664400-1618689600@www.driftcon.us
SUMMARY:DriftCon Season Opener 2021
DESCRIPTION:DriftCon kicks off the Evergreen Drift season on April 17\, 2021. After a year of no events due to COVID we are excited to welcome everyone back! \nSPECTATOR PRICE:\n$20 (Online Only)\n$10 Kids 10 and Under (Online Only) \nWhat is the DriftCon Season Opener?\nProAm Round 1 (3/8 Layout)\nTeam Tandem Competition Part 1\nStanceWars Elite Car Show\nDrift Games (Big Entry Contest)\nBeer Garden\nVendors/Models \nDRIFTCON GEAR:\nhttp://www.driftcon.us/shop/ \nSPONSORS/VENDORS:\nEmail info@driftcon.us if you are interested in supporting this event \nBUY TICKETS NOW
URL:https://www.driftcon.us/event/driftcon-season-opener-2021/
LOCATION:Evergreen Speedway\, 14405 179th Ave SE\, Monroe\, WA\, 98272\, United States
CATEGORIES:Car Show,Drift Competition,Drift Games,Team Tandem Competition
ATTACH;FMTTYPE=image/png:https://www.driftcon.us/wp-content/uploads/2021/03/DC_SO_FB_Event.png
ORGANIZER;CN="DriftCon":MAILTO:info@driftcon.us
END:VEVENT
BEGIN:VEVENT
DTSTART;TZID=America/Los_Angeles:20200912T150000
DTEND;TZID=America/Los_Angeles:20200912T220000
DTSTAMP:20260423T064820
CREATED:20200120T051416Z
LAST-MODIFIED:20200813T043654Z
UID:7022-1599922800-1599948000@www.driftcon.us
SUMMARY:DriftCon Afterdark 2020
DESCRIPTION:On September 12\, 2020 DriftCon Afterdark ends the show season at Evergreen Speedway in Monroe\, WA. 2020 has been a strange year and we’re hoping to end it on a decent note for all serious car and drifting enthusiasts. \nCOMPETITOR ONLY ADMISSION AT THIS TIME DUE TO COVID-19 RESTRICTIONS \nWhat is DriftCon Afterdark?\nProAm Round 3 (5/8 Layout)\nTeam Tandem Competition\nBig Entry / Exhibition Drifting\nTop 50 Trackside Car Show\nVIP Paved Meet \nCOVID-19 DETAILS:\nFace coverings must be worn at all times during the event\nSocial distancing should be practiced whenever possible \nDRIFTCON GEAR:\nhttp://www.driftcon.us/shop/ \nSPONSORS/VENDORS:\nEmail info@driftcon.us if you are interested in supporting this event.
URL:https://www.driftcon.us/event/driftcon-afterdark-2020/
LOCATION:Evergreen Speedway\, 14405 179th Ave SE\, Monroe\, WA\, 98272\, United States
CATEGORIES:Car Show,Drift Competition,Drift Games,Team Tandem Competition
ATTACH;FMTTYPE=image/jpeg:https://www.driftcon.us/wp-content/uploads/2020/01/driftcon-ad-2020-featured.jpg
ORGANIZER;CN="DriftCon":MAILTO:info@driftcon.us
END:VEVENT
BEGIN:VEVENT
DTSTART;TZID=America/Los_Angeles:20190601T130000
DTEND;TZID=America/Los_Angeles:20190601T200000
DTSTAMP:20260423T064820
CREATED:20190205T054517Z
LAST-MODIFIED:20190416T050830Z
UID:6468-1559394000-1559419200@www.driftcon.us
SUMMARY:DriftCon 2019
DESCRIPTION:Save the date! On June 1\, 2019 DriftCon returns to Evergreen Speedway in Monroe\, WA! \nSPECTATOR PRICE:\n$15 Online / $20 at Gate\n(Kids 10 and Under FREE) \nWhat is DriftCon?\nProAm Round 1 (5/8 Layout)\nTeam Tandem Competition (Cageless Layout)\nGreat 75 Trackside Car Show\nVIP Paved Meet – Right next to the grandstands\nHoon-Off Burnout Competition\nBeer Garden\nVendors/Models \nDRIFTCON GEAR:\nhttp://www.driftcon.us/shop/ \nSPONSORS/VENDORS:\nEmail info@driftcon.us if you are interested in supporting this event. \nSPECTATOR TICKETS:\nhttps://www.etix.com/ticket/p/5718349/june-1st-2019-driftcon-monroe-evergreen-speedway
URL:https://www.driftcon.us/event/driftcon-2019/
LOCATION:Evergreen Speedway\, 14405 179th Ave SE\, Monroe\, WA\, 98272\, United States
CATEGORIES:Car Show,Drift Competition,Team Tandem Competition
ATTACH;FMTTYPE=image/png:https://www.driftcon.us/wp-content/uploads/2019/02/DC_19_FB_Event.png
ORGANIZER;CN="DriftCon":MAILTO:info@driftcon.us
END:VEVENT
BEGIN:VEVENT
DTSTART;TZID=America/Los_Angeles:20180602T130000
DTEND;TZID=America/Los_Angeles:20180602T200000
DTSTAMP:20260423T064820
CREATED:20171212T041208Z
LAST-MODIFIED:20180308T045533Z
UID:5566-1527944400-1527969600@www.driftcon.us
SUMMARY:DriftCon 2018
DESCRIPTION:Save the date! On June 2\, 2018 DriftCon returns to Evergreen Speedway in Monroe\, WA! \n SPECTATOR PRICE:\n $15 Online / $20 at Gate\n (Kids 10 and Under FREE) \n What is DriftCon?\n ProAm Round 1 (5/8 Layout)\n Team Tandem Competition (Cageless Layout)\n Great 75 Trackside Car Show\n VIP Paved Meet – Right next to the grandstands\n Hoon-Off Burnout Competition\n Beer Garden\n Vendors/Models \n DRIFTCON GEAR:\n http://www.driftcon.us/shop/ \n SPONSORS/VENDORS:\n Email info@driftcon.us if you are interested in supporting this event.
URL:https://www.driftcon.us/event/driftcon-2018/
LOCATION:Evergreen Speedway\, 14405 179th Ave SE\, Monroe\, WA\, 98272\, United States
CATEGORIES:Car Show,Drift Competition,Team Tandem Competition
ATTACH;FMTTYPE=image/jpeg:https://www.driftcon.us/wp-content/uploads/2017/12/dc-18-event-featured.jpg
ORGANIZER;CN="ImportMeet.com":MAILTO:info@importmeet.com
END:VEVENT
BEGIN:VEVENT
DTSTART;TZID=America/Los_Angeles:20170603T130000
DTEND;TZID=America/Los_Angeles:20170603T200000
DTSTAMP:20260423T064820
CREATED:20170120T052112Z
LAST-MODIFIED:20170512T054515Z
UID:4590-1496494800-1496520000@www.driftcon.us
SUMMARY:DriftCon 2017
DESCRIPTION:On June 3\, 2017 DriftCon returns to Evergreen Speedway in Monroe\, WA. This event is held in conjunction with round 2 of the Evergreen Drift Pro Am series. This is a fourth year event and follows the continued success of the series. \nAll makes\, models\, and styles of cars are welcome at this event. \nWHAT IS DRIFTCON?\n\n Exclusive “Great 75” Car Show (trackside – only the best 75 cars will be selected)\nVIP Paved Meet Parking (right next to the grandstands – where FD does their car show)\nPro Am Round 2 Drifting Competition\nTeam Tandem Drifting Competition\nHoon-Off Tire Slaying Competition\nBeer Garden\nVendor Area (email info@driftcon.us for information about how to become a sponsor/vendor)\n\nCOSTS\n\nSpectator (full access): $20 at gate $15 online (Active Military w/ ID – Kids 10 and under FREE)\nGreat 75 Car Show: $40\nVIP Paved Parking: $25 pre-registration / $35 day-of (held where FD does their car show)\nTeam Tandem Competition: $300 per team of 3\n\nBUY TICKETSCAR SHOW REGISTRATION
URL:https://www.driftcon.us/event/driftcon-2017/
LOCATION:Evergreen Speedway\, 14405 179th Ave SE\, Monroe\, WA\, 98272\, United States
CATEGORIES:Car Show,Drift Competition,Hoon Off,Team Tandem Competition
ATTACH;FMTTYPE=image/jpeg:https://www.driftcon.us/wp-content/uploads/2017/01/DC_Event_2017_01.jpg
ORGANIZER;CN="DriftCon":MAILTO:info@driftcon.us
END:VEVENT
END:VCALENDAR